Workbook

Sheet Bucket Model
A1: Time | D1: Income Goals | H1: Bucket Goals | K1: Buckets | V1: Parameters | Y1: Stochastic Data | AE1: Historic Dow
A2: Age | B2: Year | D2: Income Before Tax | E2: Social Security | F2: Cash Draw Needed | H2: Cash (2 years) | I2: Bonds (3 years) | K2: Draw <- | L2: Cash | M2: <- Transfer <- | N2: Bonds | O2: <- Transfer <- | P2: Deferred Transfer | Q2: Stock Variation | R2: Stocks | S2: Total Assets | T2: Draw Percentage | V2: Variables | Y2: Random Variation | Z2: Historic Variation | AA2: Random Year | AB2: Random Decade | AE2: Dow | AG2: 1
A3: 55 | B3: 2019 | D3: =W5/(1-W7) -> 48338.369 | V3: Inflation | W3: ='[1]Retirement (70)'!$T$4 -> 0.03 | AE3: 1901 | AF3: -0.08689709 | AG3: =AG2*(1+AF3) -> 0.91310291 | AH3: =POWER(AG$120/AG2,1/ROWS(AG2:AG$119))-1 -> 0.053245879
A4: =A3+1 -> 56 | B4: =B3+1 -> 2020 | D4: =D3*(1+W$3) -> 49788.52 | V4: Social Security (2019) | W4: 22000 | AE4: =AE3+1 -> 1902 | AF4: -0.00427716 | AG4: =AG3*(1+AF4) -> 0.90919742 | AH4: =POWER(AG$120/AG3,1/ROWS(AG3:AG$119))-1 -> 0.054532014
A5: =A4+1 -> 57 | B5: =B4+1 -> 2021 | D5: =D4*(1+W$3) -> 51282.175 | V5: After Tax income | W5: 40000 | AE5: =AE4+1 -> 1903 | AF5: -0.23603952 | AG5: =AG4*(1+AF5) -> 0.6945909 | AH5: =POWER(AG$120/AG4,1/ROWS(AG4:AG$119))-1 -> 0.055053804
A6: =A5+1 -> 58 | B6: =B5+1 -> 2022 | D6: =D5*(1+W$3) -> 52820.64 | V6: After Tax income @ 80 | W6: =$W$5 -> 40000 | AE6: =AE5+1 -> 1904 | AF6: 0.42620186 | AG6: =AG5*(1+AF6) -> 0.99062683 | AH6: =POWER(AG$120/AG5,1/ROWS(AG5:AG$119))-1 -> 0.058019739
A7: =A6+1 -> 59 | B7: =B6+1 -> 2023 | D7: =D6*(1+W$3) -> 54405.26 | V7: Tax Rate | W7: ='[1]Retirement (70)'!$T$7 -> 0.1725 | AE7: =AE6+1 -> 1905 | AF7: 0.37847428 | AG7: =AG6*(1+AF7) -> 1.3655536 | AH7: =POWER(AG$120/AG6,1/ROWS(AG6:AG$119))-1 -> 0.055251949
A8: =A7+1 -> 60 | B8: =B7+1 -> 2024 | D8: =D7*(1+W$3) -> 56037.417 | V8: Stock Return | W8: 0.11 | AE8: =AE7+1 -> 1906 | AF8: -0.022880023 | AG8: =AG7*(1+AF8) -> 1.3343097 | AH8: =POWER(AG$120/AG7,1/ROWS(AG7:AG$119))-1 -> 0.052759668
A9: =A8+1 -> 61 | B9: =B8+1 -> 2025 | D9: =D8*(1+W$3) -> 57718.54 | V9: Bond Return | W9: 0.02 | AE9: =AE8+1 -> 1907 | AF9: -0.3772867 | AG9: =AG8*(1+AF9) -> 0.8308924 | AH9: =POWER(AG$120/AG8,1/ROWS(AG8:AG$119))-1 -> 0.053460746
A10: =A9+1 -> 62 | B10: =B9+1 -> 2026 | D10: =D9*(1+W$3) -> 59450.096 | V10: Cash Return | W10: 0.001 | AE10: =AE9+1 -> 1908 | AF10: 0.46627497 | AG10: =AG9*(1+AF10) -> 1.2183167 | AH10: =POWER(AG$120/AG9,1/ROWS(AG9:AG$119))-1 -> 0.058462281
A11: =A10+1 -> 63 | B11: =B10+1 -> 2027 | D11: =D10*(1+W$3) -> 61233.599 | V11: Initial 401(k) Balance | W11: 1000000 | AE11: =AE10+1 -> 1909 | AF11: 0.14986376 | AG11: =AG10*(1+AF11) -> 1.4008983 | AH11: =POWER(AG$120/AG10,1/ROWS(AG10:AG$119))-1 -> 0.055330911
A12: =A11+1 -> 64 | B12: =B11+1 -> 2028 | D12: =D11*(1+W$3) -> 63070.607 | H12: =SUM(F13:F14) -> 131874.33 | I12: =SUM(F15:F17) -> 213021.6 | L12: =M12 -> 131874.33 | M12: =H12 -> 131874.33 | N12: =O12-M12 -> 213021.6 | O12: =H12+I12 -> 344895.93 | R12: =W$11-O12 -> 655104.07 | S12: =L12+N12+R12 -> 1000000 | AE12: =AE11+1 -> 1910 | AF12: -0.1781433 | AG12: =AG11*(1+AF12) -> 1.1513376 | AH12: =POWER(AG$120/AG11,1/ROWS(AG11:AG$119))-1 -> 0.054500633
A13: =A12+1 -> 65 | B13: =B12+1 -> 2029 | D13: =D12*(1+W$3) -> 64962.725 | F13: =D13-E13 -> 64962.725 | H13: =SUM(F14:F15) -> 135830.56 | I13: =SUM(F16:F18) -> 204331.12 | K13: =MIN(F13, L12+M13) -> 64962.725 | L13: =(L12+M13-K13)*(1+W$10) -> 135966.39 | M13: =MIN(H13-L12+F13,N12+O13) -> 68918.955 | N13: =(N12+O13-M13)*(1+W$9) -> 208417.74 | O13: =MIN(I13-N12+(H13-L12+F13),R12)-P13 -> 60228.479 | R13: =(R12-O13)*(1+W$8+Q13) -> 660311.91 | S13: =L13+N13+R13 -> 1004696 | T13: =K13/(MAX(S12,0.001)) -> 0.064962725 | V13: Social Security (July 2034 $) | W13: =$W$4*POWER(1+$W$3, 15) -> 34275.283 | Z13: 1901 | AE13: =AE12+1 -> 1911 | AF13: 0.0020352782 | AG13: =AG12*(1+AF13) -> 1.1536809 | AH13: =POWER(AG$120/AG12,1/ROWS(AG12:AG$119))-1 -> 0.056937158
A14: =A13+1 -> 66 | B14: =B13+1 -> 2030 | D14: =D13*(1+W$3) -> 66911.607 | F14: =D14-E14 -> 66911.607 | H14: =SUM(F15:F16) -> 139905.48 | I14: =SUM(F17:F19) -> 180751.24 | K14: =MIN(F14, L13+M14) -> 66911.607 | L14: =(L13+M14-K14)*(1+W$10) -> 140045.38 | M14: =MIN(H14-L13+F14,N13+O14) -> 70850.693 | N14: =(N13+O14-M14)*(1+W$9) -> 184366.27 | O14: =MIN(I14-N13+(H14-L13+F14),R13)-P14 -> 43184.189 | R14: =(R13-O14)*(1+W$8+Q14) -> 685011.76 | S14: =L14+N14+R14 -> 1009423.4 | T14: =K14/(MAX(S13,0.001)) -> 0.066598856 | V14: Multiplier | W14: 0.88 | Y14: =_xlfn.NORM.INV(RAND(), 0,0.04775) -> -0.0082584956 | Z14: =OFFSET($AF$2,$Z$13+ROW($A1)-1901,0,1,1) -> -0.08689709 | AA14: =OFFSET($AF$3,RANDBETWEEN(1945,2018)-1901,0,1,1) -> 0.02257384 | AB14: =OFFSET($AF$2,$AC$14+ROW($A1)-1901,0,1,1) -> 0.22583565 | AC14: =RANDBETWEEN(1945, 2009) -> 1986 | AE14: =AE13+1 -> 1912 | AF14: 0.07718348 | AG14: =AG13*(1+AF14) -> 1.242726 | AH14: =POWER(AG$120/AG13,1/ROWS(AG13:AG$119))-1 -> 0.057464198
A15: =A14+1 -> 67 | B15: =B14+1 -> 2031 | D15: =D14*(1+W$3) -> 68918.955 | F15: =D15-E15 -> 68918.955 | H15: =SUM(F16:F17) -> 144102.64 | I15: =SUM(F18:F20) -> 156463.96 | K15: =MIN(F15, L14+M15) -> 68918.955 | L15: =(L14+M15-K15)*(1+W$10) -> 144246.75 | M15: =MIN(H15-L14+F15,N14+O15) -> 72976.214 | N15: =(N14+O15-M15)*(1+W$9) -> 159593.24 | O15: =MIN(I15-N14+(H15-L14+F15),R14)-P15 -> 45073.911 | R15: =(R14-O15)*(1+W$8+Q15) -> 710331.02 | S15: =L15+N15+R15 -> 1014171 | T15: =K15/(MAX(S14,0.001)) -> 0.068275566 | V15: Social Security (2034) | W15: =$W$13*$W$14 -> 30162.249 | Y15: =_xlfn.NORM.INV(RAND(), 0,0.04775) -> -0.04889525 | Z15: =OFFSET($AF$2,$Z$13+ROW($A2)-1901,0,1,1) -> -0.00427716 | AA15: =OFFSET($AF$3,RANDBETWEEN(1945,2018)-1901,0,1,1) -> 0.04810095 | AB15: =OFFSET($AF$2,$AC$14+ROW($A2)-1901,0,1,1) -> 0.02257384 | AE15: =AE14+1 -> 1913 | AF15: -0.10339409 | AG15: =AG14*(1+AF15) -> 1.1142355 | AH15: =POWER(AG$120/AG14,1/ROWS(AG14:AG$119))-1 -> 0.057279896
A16: =A15+1 -> 68 | B16: =B15+1 -> 2032 | D16: =D15*(1+W$3) -> 70986.524 | F16: =D16-E16 -> 70986.524 | H16: =SUM(F17:F18) -> 133344.6 | I16: =SUM(F19:F21) -> 146529.19 | K16: =MIN(F16, L15+M16) -> 70986.524 | L16: =(L15+M16-K16)*(1+W$10) -> 133477.94 | M16: =MIN(H16-L15+F16,N15+O16) -> 60084.376 | N16: =(N15+O16-M16)*(1+W$9) -> 149459.77 | O16: =MIN(I16-N15+(H16-L15+F16),R15)-P16 -> 47020.325 | R16: =(R15-O16)*(1+W$8+Q16) -> 736274.87 | S16: =L16+N16+R16 -> 1019212.6 | T16: =K16/(MAX(S15,0.001)) -> 0.06999463 | Y16: =_xlfn.NORM.INV(RAND(), 0,0.04775) -> -0.00869299 | Z16: =OFFSET($AF$2,$Z$13+ROW($A3)-1901,0,1,1) -> -0.23603952 | AA16: =OFFSET($AF$3,RANDBETWEEN(1945,2018)-1901,0,1,1) -> 0.16098276 | AB16: =OFFSET($AF$2,$AC$14+ROW($A3)-1901,0,1,1) -> 0.11852692 | AE16: =AE15+1 -> 1914 | AF16: -0.043463021 | AG16: =AG15*(1+AF16) -> 1.0658075 | AH16: =POWER(AG$120/AG15,1/ROWS(AG15:AG$119))-1 -> 0.058941012
A17: =A16+1 -> 69 | B17: =B16+1 -> 2033 | D17: =D16*(1+W$3) -> 73116.12 | F17: =D17-E17 -> 73116.12 | H17: =SUM(F18:F19) -> 107635.12 | I17: =SUM(F20:F22) -> 150925.07 | K17: =MIN(F17, L16+M17) -> 73116.12 | L17: =(L16+M17-K17)*(1+W$10) -> 107742.76 | M17: =MIN(H17-L16+F17,N16+O17) -> 47273.298 | N17: =(N16+O17-M17)*(1+W$9) -> 153943.57 | O17: =MIN(I17-N16+(H17-L16+F17),R16)-P17 -> 48738.589 | R17: =(R16-O17)*(1+W$8+Q17) -> 763165.27 | S17: =L17+N17+R17 -> 1024851.6 | T17: =K17/(MAX(S16,0.001)) -> 0.07173785 | V17: Transfers Take place at beginning of year | Y17: =_xlfn.NORM.INV(RAND(), 0,0.04775) -> 0.0069796489 | Z17: =OFFSET($AF$2,$Z$13+ROW($A4)-1901,0,1,1) -> 0.42620186 | AA17: =OFFSET($AF$3,RANDBETWEEN(1945,2018)-1901,0,1,1) -> 0.061151508 | AB17: =OFFSET($AF$2,$AC$14+ROW($A4)-1901,0,1,1) -> 0.26957484 | AE17: =AE16+1 -> 1915 | AF17: 0.81659949 | AG17: =AG16*(1+AF17) -> 1.9361453 | AH17: =POWER(AG$120/AG16,1/ROWS(AG16:AG$119))-1 -> 0.059977093
A18: =A17+1 -> 70 | B18: =B17+1 -> 2034 | D18: =D17*(1+W$3) -> 75309.603 | E18: =W$15/2 -> 15081.125 | F18: =D18-E18 -> 60228.479 | H18: =SUM(F19:F20) -> 96235.484 | I18: =SUM(F21:F23) -> 155452.82 | K18: =MIN(F18, L17+M18) -> 60228.479 | L18: =(L17+M18-K18)*(1+W$10) -> 96331.719 | M18: =MIN(H18-L17+F18,N17+O18) -> 48721.206 | N18: =(N17+O18-M18)*(1+W$9) -> 158561.87 | O18: =MIN(I18-N17+(H18-L17+F18),R17)-P18 -> 50230.457 | R18: =(R17-O18)*(1+W$8+Q18) -> 791357.64 | S18: =L18+N18+R18 -> 1046251.2 | T18: =K18/(MAX(S17,0.001)) -> 0.058768 | V18: Transfers/Draw take place right to left | Y18: =_xlfn.NORM.INV(RAND(), 0,0.04775) -> -0.10873197 | Z18: =OFFSET($AF$2,$Z$13+ROW($A5)-1901,0,1,1) -> 0.37847428 | AA18: =OFFSET($AF$3,RANDBETWEEN(1945,2018)-1901,0,1,1) -> 0.042757706 | AB18: =OFFSET($AF$2,$AC$14+ROW($A5)-1901,0,1,1) -> -0.043404039 | AE18: =AE17+1 -> 1916 | AF18: -0.041855774 | AG18: =AG17*(1+AF18) -> 1.8551064 | AH18: =POWER(AG$120/AG17,1/ROWS(AG17:AG$119))-1 -> 0.054447587
A19: =A18+1 -> 71 | B19: =B18+1 -> 2035 | D19: =D18*(1+W$3) -> 77568.891 | E19: =W$15*(1+W$2) -> 30162.249 | F19: =D19-E19 -> 47406.642 | H19: =SUM(F20:F21) -> 99122.548 | I19: =SUM(F22:F24) -> 160116.4 | K19: =MIN(F19, L18+M19) -> 47406.642 | L19: =(L18+M19-K19)*(1+W$10) -> 99221.671 | M19: =MIN(H19-L18+F19,N18+O19) -> 50197.471 | N19: =(N18+O19-M19)*(1+W$9) -> 163318.73 | O19: =MIN(I19-N18+(H19-L18+F19),R18)-P19 -> 51751.999 | R19: =(R18-O19)*(1+W$8+Q19) -> 820962.26 | S19: =L19+N19+R19 -> 1083502.7 | T19: =K19/(MAX(S18,0.001)) -> 0.045310954 | V19: Balance at end of year includes return gains | Y19: =_xlfn.NORM.INV(RAND(), 0,0.04775) -> 0.022658233 | Z19: =OFFSET($AF$2,$Z$13+ROW($A6)-1901,0,1,1) -> -0.022880023 | AA19: =OFFSET($AF$3,RANDBETWEEN(1945,2018)-1901,0,1,1) -> -0.070947825 | AB19: =OFFSET($AF$2,$AC$14+ROW($A6)-1901,0,1,1) -> 0.20317424 | AE19: =AE18+1 -> 1917 | AF19: -0.21705263 | AG19: =AG18*(1+AF19) -> 1.4524507 | AH19: =POWER(AG$120/AG18,1/ROWS(AG18:AG$119))-1 -> 0.055438137
A20: =A19+1 -> 72 | B20: =B19+1 -> 2036 | D20: =D19*(1+W$3) -> 79895.958 | E20: =E19*(1+W$3) -> 31067.117 | F20: =D20-E20 -> 48828.841 | H20: =SUM(F21:F22) -> 102096.22 | I20: =SUM(F23:F25) -> 164919.89 | K20: =MIN(F20, L19+M20) -> 48828.841 | L20: =(L19+M20-K20)*(1+W$10) -> 102198.32 | M20: =MIN(H20-L19+F20,N19+O20) -> 51703.395 | N20: =(N19+O20-M20)*(1+W$9) -> 168218.29 | O20: =MIN(I20-N19+(H20-L19+F20),R19)-P20 -> 53304.559 | R20: =(R19-O20)*(1+W$8+Q20) -> 852100.05 | S20: =L20+N20+R20 -> 1122516.7 | T20: =K20/(MAX(S19,0.001)) -> 0.045065733 | Y20: =_xlfn.NORM.INV(RAND(), 0,0.04775) -> -0.047269702 | Z20: =OFFSET($AF$2,$Z$13+ROW($A7)-1901,0,1,1) -> -0.3772867 | AA20: =OFFSET($AF$3,RANDBETWEEN(1945,2018)-1901,0,1,1) -> 0.14580993 | AB20: =OFFSET($AF$2,$AC$14+ROW($A7)-1901,0,1,1) -> 0.04175082 | AE20: =AE19+1 -> 1918 | AF20: 0.10513579 | AG20: =AG19*(1+AF20) -> 1.6051552 | AH20: =POWER(AG$120/AG19,1/ROWS(AG19:AG$119))-1 -> 0.058563569
A21: =A20+1 -> 73 | B21: =B20+1 -> 2037 | D21: =D20*(1+W$3) -> 82292.837 | E21: =E20*(1+W$3) -> 31999.13 | F21: =D21-E21 -> 50293.707 | H21: =SUM(F22:F23) -> 105159.11 | I21: =SUM(F24:F26) -> 169867.49 | K21: =MIN(F21, L20+M21) -> 50293.707 | L21: =(L20+M21-K21)*(1+W$10) -> 105264.27 | M21: =MIN(H21-L20+F21,N20+O21) -> 53254.497 | N21: =(N20+O21-M21)*(1+W$9) -> 173264.84 | O21: =MIN(I21-N20+(H21-L20+F21),R20)-P21 -> 54903.696 | R21: =(R20-O21)*(1+W$8+Q21) -> 884887.96 | S21: =L21+N21+R21 -> 1163417.1 | T21: =K21/(MAX(S20,0.001)) -> 0.044804419 | Y21: =_xlfn.NORM.INV(RAND(), 0,0.04775) -> -0.054889324 | Z21: =OFFSET($AF$2,$Z$13+ROW($A8)-1901,0,1,1) -> 0.46627497 | AA21: =OFFSET($AF$3,RANDBETWEEN(1945,2018)-1901,0,1,1) -> -0.070947825 | AB21: =OFFSET($AF$2,$AC$14+ROW($A8)-1901,0,1,1) -> 0.13722698 | AE21: =AE20+1 -> 1919 | AF21: 0.30450122 | AG21: =AG20*(1+AF21) -> 2.093927 | AH21: =POWER(AG$120/AG20,1/ROWS(AG20:AG$119))-1 -> 0.058107899
A22: =A21+1 -> 74 | B22: =B21+1 -> 2038 | D22: =D21*(1+W$3) -> 84761.622 | E22: =E21*(1+W$3) -> 32959.104 | F22: =D22-E22 -> 51802.518 | H22: =SUM(F23:F24) -> 108313.88 | I22: =SUM(F25:F27) -> 174963.52 | K22: =MIN(F22, L21+M22) -> 51802.518 | L22: =(L21+M22-K22)*(1+W$10) -> 108422.2 | M22: =MIN(H22-L21+F22,N21+O22) -> 54852.132 | N22: =(N21+O22-M22)*(1+W$9) -> 178462.79 | O22: =MIN(I22-N21+(H22-L21+F22),R21)-P22 -> 56550.807 | R22: =(R21-O22)*(1+W$8+Q22) -> 919454.24 | S22: =L22+N22+R22 -> 1206339.2 | T22: =K22/(MAX(S21,0.001)) -> 0.04452618 | V22: Parameters Adjust the parameters to make different assumptions about needed income, social security, taxes, and investment returns. Since social security will only be able to pay 77 cents on the dollar if nothing is done to fix it, an adjustment can be made to your expected social security. It will likely be fixed by a combination of tax increases and benefit cuts. Stock volitility can be simulated by filling in values in the Stock Variation column. A column of normally distributed random numbers and historic stock data are provided to the right for this purpose. Copy and paste the cells as values, else the random values will keep getting recomputed while you're trying to tweak other parameters. | Y22: =_xlfn.NORM.INV(RAND(), 0,0.04775) -> -0.065112267 | Z22: =OFFSET($AF$2,$Z$13+ROW($A9)-1901,0,1,1) -> 0.14986376 | AA22: =OFFSET($AF$3,RANDBETWEEN(1945,2018)-1901,0,1,1) -> -0.021523179 | AB22: =OFFSET($AF$2,$AC$14+ROW($A9)-1901,0,1,1) -> 0.021389947 | AE22: =AE21+1 -> 1920 | AF22: -0.3290124 | AG22: =AG21*(1+AF22) -> 1.404999 | AH22: =POWER(AG$120/AG21,1/ROWS(AG21:AG$119))-1 -> 0.055872862
A23: =A22+1 -> 75 | B23: =B22+1 -> 2039 | D23: =D22*(1+W$3) -> 87304.471 | E23: =E22*(1+W$3) -> 33947.877 | F23: =D23-E23 -> 53356.593 | H23: =SUM(F24:F25) -> 111563.3 | I23: =SUM(F26:F28) -> 180212.42 | K23: =MIN(F23, L22+M23) -> 53356.593 | L23: =(L22+M23-K23)*(1+W$10) -> 111674.86 | M23: =MIN(H23-L22+F23,N22+O23) -> 56497.696 | N23: =(N22+O23-M23)*(1+W$9) -> 183816.67 | O23: =MIN(I23-N22+(H23-L22+F23),R22)-P23 -> 58247.331 | R23: =(R22-O23)*(1+W$8+Q23) -> 955939.66 | S23: =L23+N23+R23 -> 1251431.2 | T23: =K23/(MAX(S22,0.001)) -> 0.044230174 | Y23: =_xlfn.NORM.INV(RAND(), 0,0.04775) -> -0.0035665695 | Z23: =OFFSET($AF$2,$Z$13+ROW($A10)-1901,0,1,1) -> -0.1781433 | AA23: =OFFSET($AF$3,RANDBETWEEN(1945,2018)-1901,0,1,1) -> 0.27657643 | AB23: =OFFSET($AF$2,$AC$14+ROW($A10)-1901,0,1,1) -> 0.33452431 | AE23: =AE22+1 -> 1921 | AF23: 0.12300208 | AG23: =AG22*(1+AF23) -> 1.5778168 | AH23: =POWER(AG$120/AG22,1/ROWS(AG22:AG$119))-1 -> 0.060768909
A24: =A23+1 -> 76 | B24: =B23+1 -> 2040 | D24: =D23*(1+W$3) -> 89923.605 | E24: =E23*(1+W$3) -> 34966.314 | F24: =D24-E24 -> 54957.291 | H24: =SUM(F25:F26) -> 114910.2 | I24: =SUM(F27:F29) -> 185618.79 | K24: =MIN(F24, L23+M24) -> 54957.291 | L24: =(L23+M24-K24)*(1+W$10) -> 115025.11 | M24: =MIN(H24-L23+F24,N23+O24) -> 58192.627 | N24: =(N23+O24-M24)*(1+W$9) -> 189331.17 | O24: =MIN(I24-N23+(H24-L23+F24),R23)-P24 -> 59994.751 | R24: =(R23-O24)*(1+W$8+Q24) -> 994498.85 | S24: =L24+N24+R24 -> 1298855.1 | T24: =K24/(MAX(S23,0.001)) -> 0.043915551 | Y24: =_xlfn.NORM.INV(RAND(), 0,0.04775) -> 0.023329146 | Z24: =OFFSET($AF$2,$Z$13+ROW($A11)-1901,0,1,1) -> 0.0020352782 | AA24: =OFFSET($AF$3,RANDBETWEEN(1945,2018)-1901,0,1,1) -> 0.20317424 | AB24: =OFFSET($AF$2,$AC$24+ROW($A1)-1901,0,1,1) -> 0.16395409 | AC24: =RANDBETWEEN(1945, 2009) -> 1959 | AE24: =AE23+1 -> 1922 | AF24: 0.21497525 | AG24: =AG23*(1+AF24) -> 1.9170084 | AH24: =POWER(AG$120/AG23,1/ROWS(AG23:AG$119))-1 -> 0.060145628
A25: =A24+1 -> 77 | B25: =B24+1 -> 2041 | D25: =D24*(1+W$3) -> 92621.313 | E25: =E24*(1+W$3) -> 36015.303 | F25: =D25-E25 -> 56606.01 | H25: =SUM(F26:F27) -> 118357.51 | I25: =SUM(F28:F30) -> 191187.36 | K25: =MIN(F25, L24+M25) -> 56606.01 | L25: =(L24+M25-K25)*(1+W$10) -> 118475.86 | M25: =MIN(H25-L24+F25,N24+O25) -> 59938.406 | N25: =(N24+O25-M25)*(1+W$9) -> 195011.11 | O25: =MIN(I25-N24+(H25-L24+F25),R24)-P25 -> 61794.594 | R25: =(R24-O25)*(1+W$8+Q25) -> 1035301.7 | S25: =L25+N25+R25 -> 1348788.7 | T25: =K25/(MAX(S24,0.001)) -> 0.043581465 | Y25: =_xlfn.NORM.INV(RAND(), 0,0.04775) -> 0.0075969424 | Z25: =OFFSET($AF$2,$Z$13+ROW($A12)-1901,0,1,1) -> 0.07718348 | AA25: =OFFSET($AF$3,RANDBETWEEN(1945,2018)-1901,0,1,1) -> 0.18818785 | AB25: =OFFSET($AF$2,$AC$24+ROW($A2)-1901,0,1,1) -> -0.093464822 | AE25: =AE24+1 -> 1923 | AF25: -0.02699399 | AG25: =AG24*(1+AF25) -> 1.8652607 | AH25: =POWER(AG$120/AG24,1/ROWS(AG24:AG$119))-1 -> 0.058641318
A26: =A25+1 -> 78 | B26: =B25+1 -> 2042 | D26: =D25*(1+W$3) -> 95399.952 | E26: =E25*(1+W$3) -> 37095.762 | F26: =D26-E26 -> 58304.19 | H26: =SUM(F27:F28) -> 121908.23 | I26: =SUM(F29:F31) -> 196922.98 | K26: =MIN(F26, L25+M26) -> 58304.19 | L26: =(L25+M26-K26)*(1+W$10) -> 122030.14 | M26: =MIN(H26-L25+F26,N25+O26) -> 61736.558 | N26: =(N25+O26-M26)*(1+W$9) -> 200861.44 | O26: =MIN(I26-N25+(H26-L25+F26),R25)-P26 -> 63648.431 | R26: =(R25-O26)*(1+W$8+Q26) -> 1078535.2 | S26: =L26+N26+R26 -> 1401426.7 | T26: =K26/(MAX(S25,0.001)) -> 0.043227075 | Y26: =_xlfn.NORM.INV(RAND(), 0,0.04775) -> -0.036641738 | Z26: =OFFSET($AF$2,$Z$13+ROW($A13)-1901,0,1,1) -> -0.10339409 | AA26: =OFFSET($AF$3,RANDBETWEEN(1945,2018)-1901,0,1,1) -> 0.17641179 | AB26: =OFFSET($AF$2,$AC$24+ROW($A3)-1901,0,1,1) -> 0.18704335 | AE26: =AE25+1 -> 1924 | AF26: 0.2616206 | AG26: =AG25*(1+AF26) -> 2.3532513 | AH26: =POWER(AG$120/AG25,1/ROWS(AG25:AG$119))-1 -> 0.059581712
A27: =A26+1 -> 79 | B27: =B26+1 -> 2043 | D27: =D26*(1+W$3) -> 98261.951 | E27: =E26*(1+W$3) -> 38208.635 | F27: =D27-E27 -> 60053.316 | H27: =SUM(F28:F29) -> 125565.48 | I27: =SUM(F30:F32) -> 202830.67 | K27: =MIN(F27, L26+M27) -> 60053.316 | L27: =(L26+M27-K27)*(1+W$10) -> 125691.04 | M27: =MIN(H27-L26+F27,N26+O27) -> 63588.655 | N27: =(N26+O27-M27)*(1+W$9) -> 206887.28 | O27: =MIN(I27-N26+(H27-L26+F27),R26)-P27 -> 65557.884 | R27: =(R26-O27)*(1+W$8+Q27) -> 1124404.8 | S27: =L27+N27+R27 -> 1456983.1 | T27: =K27/(MAX(S26,0.001)) -> 0.042851556 | Y27: =_xlfn.NORM.INV(RAND(), 0,0.04775) -> -0.0035455732 | Z27: =OFFSET($AF$2,$Z$13+ROW($A14)-1901,0,1,1) -> -0.043463021 | AA27: =OFFSET($AF$3,RANDBETWEEN(1945,2018)-1901,0,1,1) -> -0.33836997 | AB27: =OFFSET($AF$2,$AC$24+ROW($A4)-1901,0,1,1) -> -0.10805635 | AE27: =AE26+1 -> 1925 | AF27: 0.29997511 | AG27: =AG26*(1+AF27) -> 3.0591681 | AH27: =POWER(AG$120/AG26,1/ROWS(AG26:AG$119))-1 -> 0.05761629
A28: =A27+1 -> 80 | B28: =B27+1 -> 2044 | D28: =D27*(1+W$3)*W$6/W$5 -> 101209.81 | E28: =E27*(1+W$3) -> 39354.894 | F28: =D28-E28 -> 61854.915 | H28: =SUM(F29:F30) -> 129332.44 | I28: =SUM(F31:F33) -> 208915.59 | K28: =MIN(F28, L27+M28) -> 61854.915 | L28: =(L27+M28-K28)*(1+W$10) -> 129461.78 | M28: =MIN(H28-L27+F28,N27+O28) -> 65496.314 | N28: =(N27+O28-M28)*(1+W$9) -> 213093.9 | O28: =MIN(I28-N27+(H28-L27+F28),R27)-P28 -> 67524.621 | R28: =(R27-O28)*(1+W$8+Q28) -> 1173137 | S28: =L28+N28+R28 -> 1515692.6 | T28: =K28/(MAX(S27,0.001)) -> 0.042454106 | Y28: =_xlfn.NORM.INV(RAND(), 0,0.04775) -> 0.054792069 | Z28: =OFFSET($AF$2,$Z$13+ROW($A15)-1901,0,1,1) -> 0.81659949 | AA28: =OFFSET($AF$3,RANDBETWEEN(1945,2018)-1901,0,1,1) -> 0.33968327 | AB28: =OFFSET($AF$2,$AC$24+ROW($A5)-1901,0,1,1) -> 0.17006594 | AE28: =AE27+1 -> 1926 | AF28: 0.0034469552 | AG28: =AG27*(1+AF28) -> 3.0697129 | AH28: =POWER(AG$120/AG27,1/ROWS(AG27:AG$119))-1 -> 0.05527249
A29: =A28+1 -> 81 | B29: =B28+1 -> 2045 | D29: =D28*(1+W$3) -> 104246.1 | E29: =E28*(1+W$3) -> 40535.541 | F29: =D29-E29 -> 63710.563 | H29: =SUM(F30:F31) -> 133212.42 | I29: =SUM(F32:F34) -> 215183.06 | K29: =MIN(F29, L28+M29) -> 63710.563 | L29: =(L28+M29-K29)*(1+W$10) -> 133345.63 | M29: =MIN(H29-L28+F29,N28+O29) -> 67461.204 | N29: =(N28+O29-M29)*(1+W$9) -> 219486.72 | O29: =MIN(I29-N28+(H29-L28+F29),R28)-P29 -> 69550.36 | R29: =(R28-O29)*(1+W$8+Q29) -> 1224981.1 | S29: =L29+N29+R29 -> 1577813.5 | T29: =K29/(MAX(S28,0.001)) -> 0.042033959 | Y29: =_xlfn.NORM.INV(RAND(), 0,0.04775) -> -0.040216043 | Z29: =OFFSET($AF$2,$Z$13+ROW($A16)-1901,0,1,1) -> -0.041855774 | AA29: =OFFSET($AF$3,RANDBETWEEN(1945,2018)-1901,0,1,1) -> 0.196 | AB29: =OFFSET($AF$2,$AC$24+ROW($A6)-1901,0,1,1) -> 0.14560944 | AE29: =AE28+1 -> 1927 | AF29: 0.27671756 | AG29: =AG28*(1+AF29) -> 3.9191564 | AH29: =POWER(AG$120/AG28,1/ROWS(AG28:AG$119))-1 -> 0.055850272
A30: =A29+1 -> 82 | B30: =B29+1 -> 2046 | D30: =D29*(1+W$3) -> 107373.49 | E30: =E29*(1+W$3) -> 41751.607 | F30: =D30-E30 -> 65621.88 | H30: =SUM(F31:F32) -> 137208.79 | I30: =SUM(F33:F35) -> 221638.55 | K30: =MIN(F30, L29+M30) -> 65621.88 | L30: =(L29+M30-K30)*(1+W$10) -> 137346 | M30: =MIN(H30-L29+F30,N29+O30) -> 69485.04 | N30: =(N29+O30-M30)*(1+W$9) -> 226071.32 | O30: =MIN(I30-N29+(H30-L29+F30),R29)-P30 -> 71636.87 | R30: =(R29-O30)*(1+W$8+Q30) -> 1280212.1 | S30: =L30+N30+R30 -> 1643629.5 | T30: =K30/(MAX(S29,0.001)) -> 0.041590391 | Y30: =_xlfn.NORM.INV(RAND(), 0,0.04775) -> -0.00073991862 | Z30: =OFFSET($AF$2,$Z$13+ROW($A17)-1901,0,1,1) -> -0.21705263 | AA30: =OFFSET($AF$3,RANDBETWEEN(1945,2018)-1901,0,1,1) -> 0.20267559 | AB30: =OFFSET($AF$2,$AC$24+ROW($A7)-1901,0,1,1) -> 0.10891202 | AE30: =AE29+1 -> 1928 | AF30: 0.49476831 | AG30: =AG29*(1+AF30) -> 5.8582308 | AH30: =POWER(AG$120/AG29,1/ROWS(AG29:AG$119))-1 -> 0.053648674
A31: =A30+1 -> 83 | B31: =B30+1 -> 2047 | D31: =D30*(1+W$3) -> 110594.69 | E31: =E30*(1+W$3) -> 43004.155 | F31: =D31-E31 -> 67590.536 | H31: =SUM(F32:F33) -> 141325.05 | I31: =SUM(F34:F36) -> 228287.7 | K31: =MIN(F31, L30+M31) -> 67590.536 | L31: =(L30+M31-K31)*(1+W$10) -> 141466.38 | M31: =MIN(H31-L30+F31,N30+O31) -> 71569.591 | N31: =(N30+O31-M31)*(1+W$9) -> 232853.46 | O31: =MIN(I31-N30+(H31-L30+F31),R30)-P31 -> 73785.976 | R31: =(R30-O31)*(1+W$8+Q31) -> 1339133 | S31: =L31+N31+R31 -> 1713452.9 | T31: =K31/(MAX(S30,0.001)) -> 0.041122734 | Y31: =_xlfn.NORM.INV(RAND(), 0,0.04775) -> 0.068793318 | Z31: =OFFSET($AF$2,$Z$13+ROW($A18)-1901,0,1,1) -> 0.10513579 | AA31: =OFFSET($AF$3,RANDBETWEEN(1945,2018)-1901,0,1,1) -> 0.25322029 | AB31: =OFFSET($AF$2,$AC$24+ROW($A8)-1901,0,1,1) -> -0.18941504 | AE31: =AE30+1 -> 1929 | AF31: -0.17166667 | AG31: =AG30*(1+AF31) -> 4.8525679 | AH31: =POWER(AG$120/AG30,1/ROWS(AG30:AG$119))-1 -> 0.049562466
A32: =A31+1 -> 84 | B32: =B31+1 -> 2048 | D32: =D31*(1+W$3) -> 113912.53 | E32: =E31*(1+W$3) -> 44294.28 | F32: =D32-E32 -> 69618.252 | H32: =SUM(F33:F34) -> 145564.8 | I32: =SUM(F35:F37) -> 235136.33 | K32: =MIN(F32, L31+M32) -> 69618.252 | L32: =(L31+M32-K32)*(1+W$10) -> 145710.37 | M32: =MIN(H32-L31+F32,N31+O32) -> 73716.679 | N32: =(N31+O32-M32)*(1+W$9) -> 239839.06 | O32: =MIN(I32-N31+(H32-L31+F32),R31)-P32 -> 75999.556 | R32: =(R31-O32)*(1+W$8+Q32) -> 1402078.2 | S32: =L32+N32+R32 -> 1787627.6 | T32: =K32/(MAX(S31,0.001)) -> 0.040630386 | Y32: =_xlfn.NORM.INV(RAND(), 0,0.04775) -> 0.025413478 | Z32: =OFFSET($AF$2,$Z$13+ROW($A19)-1901,0,1,1) -> 0.30450122 | AA32: =OFFSET($AF$3,RANDBETWEEN(1945,2018)-1901,0,1,1) -> -0.031520693 | AB32: =OFFSET($AF$2,$AC$24+ROW($A9)-1901,0,1,1) -> 0.1519664 | AE32: =AE31+1 -> 1930 | AF32: -0.33762575 | AG32: =AG31*(1+AF32) -> 3.214216 | AH32: =POWER(AG$120/AG31,1/ROWS(AG31:AG$119))-1 -> 0.052357699
A33: =A32+1 -> 85 | B33: =B32+1 -> 2049 | D33: =D32*(1+W$3) -> 117329.91 | E33: =E32*(1+W$3) -> 45623.108 | F33: =D33-E33 -> 71706.8 | H33: =SUM(F34:F35) -> 149931.75 | I33: =SUM(F36:F38) -> 242190.43 | K33: =MIN(F33, L32+M33) -> 71706.8 | L33: =(L32+M33-K33)*(1+W$10) -> 150081.68 | M33: =MIN(H33-L32+F33,N32+O33) -> 75928.179 | N33: =(N32+O33-M33)*(1+W$9) -> 247034.23 | O33: =MIN(I33-N32+(H33-L32+F33),R32)-P33 -> 78279.542 | R33: =(R32-O33)*(1+W$8+Q33) -> 1469416.5 | S33: =L33+N33+R33 -> 1866532.4 | T33: =K33/(MAX(S32,0.001)) -> 0.040112829 | Y33: =_xlfn.NORM.INV(RAND(), 0,0.04775) -> 0.10980428 | Z33: =OFFSET($AF$2,$Z$13+ROW($A20)-1901,0,1,1) -> -0.3290124 | AA33: =OFFSET($AF$3,RANDBETWEEN(1945,2018)-1901,0,1,1) -> -0.061780797 | AB33: =OFFSET($AF$2,$AC$24+ROW($A10)-1901,0,1,1) -> 0.042757706 | AE33: =AE32+1 -> 1931 | AF33: -0.52673147 | AG33: =AG32*(1+AF33) -> 1.5211873 | AH33: =POWER(AG$120/AG32,1/ROWS(AG32:AG$119))-1 -> 0.057908617
A34: =A33+1 -> 86 | B34: =B33+1 -> 2050 | D34: =D33*(1+W$3) -> 120849.81 | E34: =E33*(1+W$3) -> 46991.801 | F34: =D34-E34 -> 73858.004 | H34: =SUM(F35:F36) -> 154429.7 | I34: =SUM(F37:F39) -> 249456.14 | K34: =MIN(F34, L33+M34) -> 73858.004 | L34: =(L33+M34-K34)*(1+W$10) -> 154584.13 | M34: =MIN(H34-L33+F34,N33+O34) -> 78206.024 | N34: =(N33+O34-M34)*(1+W$9) -> 254445.26 | O34: =MIN(I34-N33+(H34-L33+F34),R33)-P34 -> 80627.929 | R34: =(R33-O34)*(1+W$8+Q34) -> 1541555.3 | S34: =L34+N34+R34 -> 1950584.7 | T34: =K34/(MAX(S33,0.001)) -> 0.039569634 | Y34: =_xlfn.NORM.INV(RAND(), 0,0.04775) -> 0.051885538 | Z34: =OFFSET($AF$2,$Z$13+ROW($A21)-1901,0,1,1) -> 0.12300208 | AA34: =OFFSET($AF$3,RANDBETWEEN(1945,2018)-1901,0,1,1) -> 0.16098276 | AB34: =OFFSET($AF$2,$AC$34+ROW($A1)-1901,0,1,1) -> -0.070947825 | AC34: =RANDBETWEEN(1945, 2009) -> 2001 | AE34: =AE33+1 -> 1932 | AF34: -0.23106547 | AG34: =AG33*(1+AF34) -> 1.1696934 | AH34: =POWER(AG$120/AG33,1/ROWS(AG33:AG$119))-1 -> 0.067735207
A35: =A34+1 -> 87 | B35: =B34+1 -> 2051 | D35: =D34*(1+W$3) -> 124475.3 | E35: =E34*(1+W$3) -> 48401.555 | F35: =D35-E35 -> 76073.744 | H35: =SUM(F36:F37) -> 159062.59 | I35: =SUM(F38:F40) -> 256939.82 | K35: =MIN(F35, L34+M35) -> 76073.744 | L35: =(L34+M35-K35)*(1+W$10) -> 159221.65 | M35: =MIN(H35-L34+F35,N34+O35) -> 80552.205 | N35: =(N34+O35-M35)*(1+W$9) -> 262078.62 | O35: =MIN(I35-N34+(H35-L34+F35),R34)-P35 -> 83046.767 | R35: =(R34-O35)*(1+W$8+Q35) -> 1618944.5 | S35: =L35+N35+R35 -> 2040244.7 | T35: =K35/(MAX(S34,0.001)) -> 0.039000483 | Y35: =_xlfn.NORM.INV(RAND(), 0,0.04775) -> -0.0095766604 | Z35: =OFFSET($AF$2,$Z$13+ROW($A22)-1901,0,1,1) -> 0.21497525 | AA35: =OFFSET($AF$3,RANDBETWEEN(1945,2018)-1901,0,1,1) -> 0.18704335 | AB35: =OFFSET($AF$2,$AC$34+ROW($A2)-1901,0,1,1) -> -0.1676266 | AE35: =AE34+1 -> 1933 | AF35: 0.66777963 | AG35: =AG34*(1+AF35) -> 1.9507909 | AH35: =POWER(AG$120/AG34,1/ROWS(AG34:AG$119))-1 -> 0.07181888
A36: =A35+1 -> 88 | B36: =B35+1 -> 2052 | D36: =D35*(1+W$3) -> 128209.56 | E36: =E35*(1+W$3) -> 49853.602 | F36: =D36-E36 -> 78355.956 | H36: =SUM(F37:F38) -> 163834.47 | I36: =SUM(F39:F41) -> 264648.02 | K36: =MIN(F36, L35+M36) -> 78355.956 | L36: =(L35+M36-K36)*(1+W$10) -> 163998.3 | M36: =MIN(H36-L35+F36,N35+O36) -> 82968.771 | N36: =(N35+O36-M36)*(1+W$9) -> 269940.98 | O36: =MIN(I36-N35+(H36-L35+F36),R35)-P36 -> 85538.17 | R36: =(R35-O36)*(1+W$8+Q36) -> 1702081 | S36: =L36+N36+R36 -> 2136020.3 | T36: =K36/(MAX(S35,0.001)) -> 0.038405175 | Y36: =_xlfn.NORM.INV(RAND(), 0,0.04775) -> -0.043832412 | Z36: =OFFSET($AF$2,$Z$13+ROW($A23)-1901,0,1,1) -> -0.02699399 | AA36: =OFFSET($AF$3,RANDBETWEEN(1945,2018)-1901,0,1,1) -> -0.093464822 | AB36: =OFFSET($AF$2,$AC$34+ROW($A3)-1901,0,1,1) -> 0.25322029 | AE36: =AE35+1 -> 1934 | AF36: 0.041041041 | AG36: =AG35*(1+AF36) -> 2.0308533 | AH36: =POWER(AG$120/AG35,1/ROWS(AG35:AG$119))-1 -> 0.06625818
A37: =A36+1 -> 89 | B37: =B36+1 -> 2053 | D37: =D36*(1+W$3) -> 132055.85 | E37: =E36*(1+W$3) -> 51349.21 | F37: =D37-E37 -> 80706.635 | H37: =SUM(F38:F39) -> 168749.5 | I37: =SUM(F40:F42) -> 272587.46 | K37: =MIN(F37, L36+M37) -> 80706.635 | L37: =(L36+M37-K37)*(1+W$10) -> 168918.25 | M37: =MIN(H37-L36+F37,N36+O37) -> 85457.834 | N37: =(N36+O37-M37)*(1+W$9) -> 278039.21 | O37: =MIN(I37-N36+(H37-L36+F37),R36)-P37 -> 88104.315 | R37: =(R36-O37)*(1+W$8+Q37) -> 1791514.1 | S37: =L37+N37+R37 -> 2238471.6 | T37: =K37/(MAX(S36,0.001)) -> 0.037783647 | Y37: =_xlfn.NORM.INV(RAND(), 0,0.04775) -> -0.031967663 | Z37: =OFFSET($AF$2,$Z$13+ROW($A24)-1901,0,1,1) -> 0.2616206 | AA37: =OFFSET($AF$3,RANDBETWEEN(1945,2018)-1901,0,1,1) -> 0.11852692 | AB37: =OFFSET($AF$2,$AC$34+ROW($A4)-1901,0,1,1) -> 0.031481074 | AE37: =AE36+1 -> 1935 | AF37: 0.38557692 | AG37: =AG36*(1+AF37) -> 2.8139035 | AH37: =POWER(AG$120/AG36,1/ROWS(AG36:AG$119))-1 -> 0.066562034
A38: =A37+1 -> 90 | B38: =B37+1 -> 2054 | D38: =D37*(1+W$3) -> 136017.52 | E38: =E37*(1+W$3) -> 52889.687 | F38: =D38-E38 -> 83127.834 | H38: =SUM(F39:F40) -> 173811.99 | I38: =SUM(F41:F43) -> 280765.08 | K38: =MIN(F38, L37+M38) -> 83127.834 | L38: =(L37+M38-K38)*(1+W$10) -> 173985.8 | M38: =MIN(H38-L37+F38,N37+O38) -> 88021.57 | N38: =(N37+O38-M38)*(1+W$9) -> 286380.38 | O38: =MIN(I38-N37+(H38-L37+F38),R37)-P38 -> 90747.444 | R38: =(R37-O38)*(1+W$8+Q38) -> 1887851 | S38: =L38+N38+R38 -> 2348217.2 | T38: =K38/(MAX(S37,0.001)) -> 0.03713598 | Y38: =_xlfn.NORM.INV(RAND(), 0,0.04775) -> 0.024809835 | Z38: =OFFSET($AF$2,$Z$13+ROW($A25)-1901,0,1,1) -> 0.29997511 | AA38: =OFFSET($AF$3,RANDBETWEEN(1945,2018)-1901,0,1,1) -> 0.04175082 | AB38: =OFFSET($AF$2,$AC$34+ROW($A5)-1901,0,1,1) -> -0.0060743763 | AE38: =AE37+1 -> 1936 | AF38: 0.24843858 | AG38: =AG37*(1+AF38) -> 3.5129857 | AH38: =POWER(AG$120/AG37,1/ROWS(AG37:AG$119))-1 -> 0.063204753
A39: =A38+1 -> 91 | B39: =B38+1 -> 2055 | D39: =D38*(1+W$3) -> 140098.05 | E39: =E38*(1+W$3) -> 54476.377 | F39: =D39-E39 -> 85621.669 | H39: =SUM(F40:F41) -> 179026.35 | I39: =SUM(F42:F44) -> 289188.03 | K39: =MIN(F39, L38+M39) -> 85621.669 | L39: =(L38+M39-K39)*(1+W$10) -> 179205.37 | M39: =MIN(H39-L38+F39,N38+O39) -> 90662.217 | N39: =(N38+O39-M39)*(1+W$9) -> 294971.79 | O39: =MIN(I39-N38+(H39-L38+F39),R38)-P39 -> 93469.867 | R39: =(R38-O39)*(1+W$8+Q39) -> 1991763 | S39: =L39+N39+R39 -> 2465940.2 | T39: =K39/(MAX(S38,0.001)) -> 0.036462415 | Y39: =_xlfn.NORM.INV(RAND(), 0,0.04775) -> -0.014852435 | Z39: =OFFSET($AF$2,$Z$13+ROW($A26)-1901,0,1,1) -> 0.0034469552 | AA39: =OFFSET($AF$3,RANDBETWEEN(1945,2018)-1901,0,1,1) -> -0.0060743763 | AB39: =OFFSET($AF$2,$AC$34+ROW($A6)-1901,0,1,1) -> 0.16288314 | AE39: =AE38+1 -> 1937 | AF39: -0.32795998 | AG39: =AG38*(1+AF39) -> 2.360867 | AH39: =POWER(AG$120/AG38,1/ROWS(AG38:AG$119))-1 -> 0.061124388
A40: =A39+1 -> 92 | B40: =B39+1 -> 2056 | D40: =D39*(1+W$3) -> 144300.99 | E40: =E39*(1+W$3) -> 56110.668 | F40: =D40-E40 -> 88190.319 | H40: =SUM(F41:F42) -> 184397.14 | I40: =SUM(F43:F45) -> 297863.67 | K40: =MIN(F40, L39+M40) -> 88190.319 | L40: =(L39+M40-K40)*(1+W$10) -> 184581.54 | M40: =MIN(H40-L39+F40,N39+O40) -> 93382.083 | N40: =(N39+O40-M40)*(1+W$9) -> 303820.95 | O40: =MIN(I40-N39+(H40-L39+F40),R39)-P40 -> 96273.963 | R40: =(R39-O40)*(1+W$8+Q40) -> 2103992.9 | S40: =L40+N40+R40 -> 2592395.4 | T40: =K40/(MAX(S39,0.001)) -> 0.035763365 | Y40: =_xlfn.NORM.INV(RAND(), 0,0.04775) -> -0.089065299 | Z40: =OFFSET($AF$2,$Z$13+ROW($A27)-1901,0,1,1) -> 0.27671756 | AA40: =OFFSET($AF$3,RANDBETWEEN(1945,2018)-1901,0,1,1) -> 0.021389947 | AB40: =OFFSET($AF$2,$AC$34+ROW($A7)-1901,0,1,1) -> 0.06431735 | AE40: =AE39+1 -> 1938 | AF40: 0.28039702 | AG40: =AG39*(1+AF40) -> 3.0228471 | AH40: =POWER(AG$120/AG39,1/ROWS(AG39:AG$119))-1 -> 0.06712507
...

Sheet Random Decades
A1: Time | D1: Income Goals | H1: Bucket Goals | K1: Buckets | V1: Parameters | Y1: Stochastic Data | AE1: Historic Dow
A2: Age | B2: Year | D2: Income Before Tax | E2: Social Security | F2: Cash Draw Needed | H2: Cash (2 years) | I2: Bonds (3 years) | K2: Draw <- | L2: Cash | M2: <- Transfer <- | N2: Bonds | O2: <- Transfer <- | P2: Deferred Transfer | Q2: Stock Variation | R2: Stocks | S2: Total Assets | T2: Draw Percentage | V2: Variables | Y2: Random Variation | Z2: Historic Variation | AA2: Random Year | AB2: Random Decade | AE2: Dow | AG2: 1
A3: 55 | B3: 2019 | D3: =W5/(1-W7) -> 48338.369 | V3: Inflation | W3: ='[1]Retirement (70)'!$T$4 -> 0.03 | AE3: 1901 | AF3: -0.08689709 | AG3: =AG2*(1+AF3) -> 0.91310291 | AH3: =POWER(AG$120/AG2,1/ROWS(AG2:AG$119))-1 -> 0.053245879
A4: =A3+1 -> 56 | B4: =B3+1 -> 2020 | D4: =D3*(1+W$3) -> 49788.52 | V4: Social Security (2019) | W4: 22000 | AE4: =AE3+1 -> 1902 | AF4: -0.00427716 | AG4: =AG3*(1+AF4) -> 0.90919742 | AH4: =POWER(AG$120/AG3,1/ROWS(AG3:AG$119))-1 -> 0.054532014
A5: =A4+1 -> 57 | B5: =B4+1 -> 2021 | D5: =D4*(1+W$3) -> 51282.175 | V5: After Tax income | W5: 40000 | AE5: =AE4+1 -> 1903 | AF5: -0.23603952 | AG5: =AG4*(1+AF5) -> 0.6945909 | AH5: =POWER(AG$120/AG4,1/ROWS(AG4:AG$119))-1 -> 0.055053804
A6: =A5+1 -> 58 | B6: =B5+1 -> 2022 | D6: =D5*(1+W$3) -> 52820.64 | V6: After Tax income @ 80 | W6: =$W$5 -> 40000 | AE6: =AE5+1 -> 1904 | AF6: 0.42620186 | AG6: =AG5*(1+AF6) -> 0.99062683 | AH6: =POWER(AG$120/AG5,1/ROWS(AG5:AG$119))-1 -> 0.058019739
A7: =A6+1 -> 59 | B7: =B6+1 -> 2023 | D7: =D6*(1+W$3) -> 54405.26 | V7: Tax Rate | W7: ='[1]Retirement (70)'!$T$7 -> 0.1725 | AE7: =AE6+1 -> 1905 | AF7: 0.37847428 | AG7: =AG6*(1+AF7) -> 1.3655536 | AH7: =POWER(AG$120/AG6,1/ROWS(AG6:AG$119))-1 -> 0.055251949
A8: =A7+1 -> 60 | B8: =B7+1 -> 2024 | D8: =D7*(1+W$3) -> 56037.417 | V8: Stock Return | W8: 0.01 | AE8: =AE7+1 -> 1906 | AF8: -0.022880023 | AG8: =AG7*(1+AF8) -> 1.3343097 | AH8: =POWER(AG$120/AG7,1/ROWS(AG7:AG$119))-1 -> 0.052759668
A9: =A8+1 -> 61 | B9: =B8+1 -> 2025 | D9: =D8*(1+W$3) -> 57718.54 | V9: Bond Return | W9: 0.02 | AE9: =AE8+1 -> 1907 | AF9: -0.3772867 | AG9: =AG8*(1+AF9) -> 0.8308924 | AH9: =POWER(AG$120/AG8,1/ROWS(AG8:AG$119))-1 -> 0.053460746
A10: =A9+1 -> 62 | B10: =B9+1 -> 2026 | D10: =D9*(1+W$3) -> 59450.096 | V10: Cash Return | W10: 0.001 | AE10: =AE9+1 -> 1908 | AF10: 0.46627497 | AG10: =AG9*(1+AF10) -> 1.2183167 | AH10: =POWER(AG$120/AG9,1/ROWS(AG9:AG$119))-1 -> 0.058462281
A11: =A10+1 -> 63 | B11: =B10+1 -> 2027 | D11: =D10*(1+W$3) -> 61233.599 | V11: Initial 401(k) Balance | W11: 1000000 | AE11: =AE10+1 -> 1909 | AF11: 0.14986376 | AG11: =AG10*(1+AF11) -> 1.4008983 | AH11: =POWER(AG$120/AG10,1/ROWS(AG10:AG$119))-1 -> 0.055330911
A12: =A11+1 -> 64 | B12: =B11+1 -> 2028 | D12: =D11*(1+W$3) -> 63070.607 | H12: =SUM(F13:F14) -> 131874.33 | I12: =SUM(F15:F17) -> 213021.6 | L12: =M12 -> 131874.33 | M12: =H12 -> 131874.33 | N12: =O12-M12 -> 213021.6 | O12: =H12+I12 -> 344895.93 | R12: =W$11-O12 -> 655104.07 | S12: =L12+N12+R12 -> 1000000 | AE12: =AE11+1 -> 1910 | AF12: -0.1781433 | AG12: =AG11*(1+AF12) -> 1.1513376 | AH12: =POWER(AG$120/AG11,1/ROWS(AG11:AG$119))-1 -> 0.054500633
A13: =A12+1 -> 65 | B13: =B12+1 -> 2029 | D13: =D12*(1+W$3) -> 64962.725 | F13: =D13-E13 -> 64962.725 | H13: =SUM(F14:F15) -> 135830.56 | I13: =SUM(F16:F18) -> 204331.12 | K13: =MIN(F13, L12+M13) -> 64962.725 | L13: =(L12+M13-K13)*(1+W$10) -> 135966.39 | M13: =MIN(H13-L12+F13,N12+O13) -> 68918.955 | N13: =(N12+O13-M13)*(1+W$9) -> 208417.74 | O13: =MIN(I13-N12+(H13-L12+F13),R12)-P13 -> 60228.479 | Q13: 0.04810095 | R13: =(R12-O13)*(1+W$8+Q13) -> 629438.43 | S13: =L13+N13+R13 -> 973822.56 | T13: =K13/(MAX(S12,0.001)) -> 0.064962725 | V13: Social Security (July 2034 $) | W13: =$W$4*POWER(1+$W$3, 15) -> 34275.283 | Z13: 1901 | AE13: =AE12+1 -> 1911 | AF13: 0.0020352782 | AG13: =AG12*(1+AF13) -> 1.1536809 | AH13: =POWER(AG$120/AG12,1/ROWS(AG12:AG$119))-1 -> 0.056937158
A14: =A13+1 -> 66 | B14: =B13+1 -> 2030 | D14: =D13*(1+W$3) -> 66911.607 | F14: =D14-E14 -> 66911.607 | H14: =SUM(F15:F16) -> 139905.48 | I14: =SUM(F17:F19) -> 180751.24 | K14: =MIN(F14, L13+M14) -> 66911.607 | L14: =(L13+M14-K14)*(1+W$10) -> 140045.38 | M14: =MIN(H14-L13+F14,N13+O14) -> 70850.693 | N14: =(N13+O14-M14)*(1+W$9) -> 184366.27 | O14: =MIN(I14-N13+(H14-L13+F14),R13)-P14 -> 43184.189 | Q14: 0.061151508 | R14: =(R13-O14)*(1+W$8+Q14) -> 627967.11 | S14: =L14+N14+R14 -> 952378.76 | T14: =K14/(MAX(S13,0.001)) -> 0.068710266 | V14: Multiplier | W14: 0.88 | Y14: =_xlfn.NORM.INV(RAND(), 0,0.04775) -> -0.038084538 | Z14: =OFFSET($AF$2,$Z$13+ROW($A1)-1901,0,1,1) -> -0.08689709 | AA14: =OFFSET($AF$3,RANDBETWEEN(1945,2018)-1901,0,1,1) -> 0.33452431 | AB14: =OFFSET($AF$2,$AC$14+ROW($A1)-1901,0,1,1) -> -0.070947825 | AC14: =RANDBETWEEN(1945, 2009) -> 2001 | AE14: =AE13+1 -> 1912 | AF14: 0.07718348 | AG14: =AG13*(1+AF14) -> 1.242726 | AH14: =POWER(AG$120/AG13,1/ROWS(AG13:AG$119))-1 -> 0.057464198
A15: =A14+1 -> 67 | B15: =B14+1 -> 2031 | D15: =D14*(1+W$3) -> 68918.955 | F15: =D15-E15 -> 68918.955 | H15: =SUM(F16:F17) -> 144102.64 | I15: =SUM(F18:F20) -> 156463.96 | K15: =MIN(F15, L14+M15) -> 68918.955 | L15: =(L14+M15-K15)*(1+W$10) -> 144246.75 | M15: =MIN(H15-L14+F15,N14+O15) -> 72976.214 | N15: =(N14+O15-M15)*(1+W$9) -> 159593.24 | O15: =MIN(I15-N14+(H15-L14+F15),R14)-P15 -> 45073.911 | Q15: 0.14580993 | R15: =(R14-O15)*(1+W$8+Q15) -> 673713.75 | S15: =L15+N15+R15 -> 977553.74 | T15: =K15/(MAX(S14,0.001)) -> 0.07236507 | V15: Social Security (2034) | W15: =$W$13*$W$14 -> 30162.249 | Y15: =_xlfn.NORM.INV(RAND(), 0,0.04775) -> -0.022018974 | Z15: =OFFSET($AF$2,$Z$13+ROW($A2)-1901,0,1,1) -> -0.00427716 | AA15: =OFFSET($AF$3,RANDBETWEEN(1945,2018)-1901,0,1,1) -> -0.17268836 | AB15: =OFFSET($AF$2,$AC$14+ROW($A2)-1901,0,1,1) -> -0.1676266 | AE15: =AE14+1 -> 1913 | AF15: -0.10339409 | AG15: =AG14*(1+AF15) -> 1.1142355 | AH15: =POWER(AG$120/AG14,1/ROWS(AG14:AG$119))-1 -> 0.057279896
A16: =A15+1 -> 68 | B16: =B15+1 -> 2032 | D16: =D15*(1+W$3) -> 70986.524 | F16: =D16-E16 -> 70986.524 | H16: =SUM(F17:F18) -> 133344.6 | I16: =SUM(F19:F21) -> 146529.19 | K16: =MIN(F16, L15+M16) -> 70986.524 | L16: =(L15+M16-K16)*(1+W$10) -> 133477.94 | M16: =MIN(H16-L15+F16,N15+O16) -> 60084.376 | N16: =(N15+O16-M16)*(1+W$9) -> 149459.77 | O16: =MIN(I16-N15+(H16-L15+F16),R15)-P16 -> 47020.325 | Q16: -0.16578431 | R16: =(R15-O16)*(1+W$8+Q16) -> 529064.42 | S16: =L16+N16+R16 -> 812002.14 | T16: =K16/(MAX(S15,0.001)) -> 0.072616493 | Y16: =_xlfn.NORM.INV(RAND(), 0,0.04775) -> 0.032100422 | Z16: =OFFSET($AF$2,$Z$13+ROW($A3)-1901,0,1,1) -> -0.23603952 | AA16: =OFFSET($AF$3,RANDBETWEEN(1945,2018)-1901,0,1,1) -> 0.084323923 | AB16: =OFFSET($AF$2,$AC$14+ROW($A3)-1901,0,1,1) -> 0.25322029 | AE16: =AE15+1 -> 1914 | AF16: -0.043463021 | AG16: =AG15*(1+AF16) -> 1.0658075 | AH16: =POWER(AG$120/AG15,1/ROWS(AG15:AG$119))-1 -> 0.058941012
A17: =A16+1 -> 69 | B17: =B16+1 -> 2033 | D17: =D16*(1+W$3) -> 73116.12 | F17: =D17-E17 -> 73116.12 | H17: =SUM(F18:F19) -> 107635.12 | I17: =SUM(F20:F22) -> 150925.07 | K17: =MIN(F17, L16+M17) -> 73116.12 | L17: =(L16+M17-K17)*(1+W$10) -> 107742.76 | M17: =MIN(H17-L16+F17,N16+O17) -> 47273.298 | N17: =(N16+O17-M17)*(1+W$9) -> 153943.57 | O17: =MIN(I17-N16+(H17-L16+F17),R16)-P17 -> 48738.589 | Q17: -0.2758256 | R17: =(R16-O17)*(1+W$8+Q17) -> 352642.93 | S17: =L17+N17+R17 -> 614329.25 | T17: =K17/(MAX(S16,0.001)) -> 0.090044245 | V17: Transfers Take place at beginning of year | Y17: =_xlfn.NORM.INV(RAND(), 0,0.04775) -> 0.02860915 | Z17: =OFFSET($AF$2,$Z$13+ROW($A4)-1901,0,1,1) -> 0.42620186 | AA17: =OFFSET($AF$3,RANDBETWEEN(1945,2018)-1901,0,1,1) -> -0.0060743763 | AB17: =OFFSET($AF$2,$AC$14+ROW($A4)-1901,0,1,1) -> 0.031481074 | AE17: =AE16+1 -> 1915 | AF17: 0.81659949 | AG17: =AG16*(1+AF17) -> 1.9361453 | AH17: =POWER(AG$120/AG16,1/ROWS(AG16:AG$119))-1 -> 0.059977093
A18: =A17+1 -> 70 | B18: =B17+1 -> 2034 | D18: =D17*(1+W$3) -> 75309.603 | E18: =W$15/2 -> 15081.125 | F18: =D18-E18 -> 60228.479 | H18: =SUM(F19:F20) -> 96235.484 | I18: =SUM(F21:F23) -> 155452.82 | K18: =MIN(F18, L17+M18) -> 60228.479 | L18: =(L17+M18-K18)*(1+W$10) -> 96331.719 | M18: =MIN(H18-L17+F18,N17+O18) -> 48721.206 | N18: =(N17+O18-M18)*(1+W$9) -> 158561.87 | O18: =MIN(I18-N17+(H18-L17+F18),R17)-P18 -> 50230.457 | Q18: 0.3833171 | R18: =(R17-O18)*(1+W$8+Q18) -> 421356.47 | S18: =L18+N18+R18 -> 676250.06 | T18: =K18/(MAX(S17,0.001)) -> 0.098039412 | V18: Transfers/Draw take place right to left | Y18: =_xlfn.NORM.INV(RAND(), 0,0.04775) -> -0.057148723 | Z18: =OFFSET($AF$2,$Z$13+ROW($A5)-1901,0,1,1) -> 0.37847428 | AA18: =OFFSET($AF$3,RANDBETWEEN(1945,2018)-1901,0,1,1) -> -0.070947825 | AB18: =OFFSET($AF$2,$AC$14+ROW($A5)-1901,0,1,1) -> -0.0060743763 | AE18: =AE17+1 -> 1916 | AF18: -0.041855774 | AG18: =AG17*(1+AF18) -> 1.8551064 | AH18: =POWER(AG$120/AG17,1/ROWS(AG17:AG$119))-1 -> 0.054447587
A19: =A18+1 -> 71 | B19: =B18+1 -> 2035 | D19: =D18*(1+W$3) -> 77568.891 | E19: =W$15*(1+W$2) -> 30162.249 | F19: =D19-E19 -> 47406.642 | H19: =SUM(F20:F21) -> 99122.548 | I19: =SUM(F22:F24) -> 160116.4 | K19: =MIN(F19, L18+M19) -> 47406.642 | L19: =(L18+M19-K19)*(1+W$10) -> 99221.671 | M19: =MIN(H19-L18+F19,N18+O19) -> 50197.471 | N19: =(N18+O19-M19)*(1+W$9) -> 163318.73 | O19: =MIN(I19-N18+(H19-L18+F19),R18)-P19 -> 51751.999 | Q19: 0.17867198 | R19: =(R18-O19)*(1+W$8+Q19) -> 439338.48 | S19: =L19+N19+R19 -> 701878.88 | T19: =K19/(MAX(S18,0.001)) -> 0.070102237 | V19: Balance at end of year includes return gains | Y19: =_xlfn.NORM.INV(RAND(), 0,0.04775) -> -0.042960912 | Z19: =OFFSET($AF$2,$Z$13+ROW($A6)-1901,0,1,1) -> -0.022880023 | AA19: =OFFSET($AF$3,RANDBETWEEN(1945,2018)-1901,0,1,1) -> 0.33968327 | AB19: =OFFSET($AF$2,$AC$14+ROW($A6)-1901,0,1,1) -> 0.16288314 | AE19: =AE18+1 -> 1917 | AF19: -0.21705263 | AG19: =AG18*(1+AF19) -> 1.4524507 | AH19: =POWER(AG$120/AG18,1/ROWS(AG18:AG$119))-1 -> 0.055438137
A20: =A19+1 -> 72 | B20: =B19+1 -> 2036 | D20: =D19*(1+W$3) -> 79895.958 | E20: =E19*(1+W$3) -> 31067.117 | F20: =D20-E20 -> 48828.841 | H20: =SUM(F21:F22) -> 102096.22 | I20: =SUM(F23:F25) -> 164919.89 | K20: =MIN(F20, L19+M20) -> 48828.841 | L20: =(L19+M20-K20)*(1+W$10) -> 102198.32 | M20: =MIN(H20-L19+F20,N19+O20) -> 51703.395 | N20: =(N19+O20-M20)*(1+W$9) -> 168218.29 | O20: =MIN(I20-N19+(H20-L19+F20),R19)-P20 -> 53304.559 | Q20: -0.17268836 | R20: =(R19-O20)*(1+W$8+Q20) -> 323230.69 | S20: =L20+N20+R20 -> 593647.31 | T20: =K20/(MAX(S19,0.001)) -> 0.069568757 | Y20: =_xlfn.NORM.INV(RAND(), 0,0.04775) -> -0.029182688 | Z20: =OFFSET($AF$2,$Z$13+ROW($A7)-1901,0,1,1) -> -0.3772867 | AA20: =OFFSET($AF$3,RANDBETWEEN(1945,2018)-1901,0,1,1) -> -0.031520693 | AB20: =OFFSET($AF$2,$AC$14+ROW($A7)-1901,0,1,1) -> 0.06431735 | AE20: =AE19+1 -> 1918 | AF20: 0.10513579 | AG20: =AG19*(1+AF20) -> 1.6051552 | AH20: =POWER(AG$120/AG19,1/ROWS(AG19:AG$119))-1 -> 0.058563569
A21: =A20+1 -> 73 | B21: =B20+1 -> 2037 | D21: =D20*(1+W$3) -> 82292.837 | E21: =E20*(1+W$3) -> 31999.13 | F21: =D21-E21 -> 50293.707 | H21: =SUM(F22:F23) -> 105159.11 | I21: =SUM(F24:F26) -> 169867.49 | K21: =MIN(F21, L20+M21) -> 50293.707 | L21: =(L20+M21-K21)*(1+W$10) -> 105264.27 | M21: =MIN(H21-L20+F21,N20+O21) -> 53254.497 | N21: =(N20+O21-M21)*(1+W$9) -> 173264.84 | O21: =MIN(I21-N20+(H21-L20+F21),R20)-P21 -> 54903.696 | Q21: -0.031520693 | R21: =(R20-O21)*(1+W$8+Q21) -> 262552.41 | S21: =L21+N21+R21 -> 541081.53 | T21: =K21/(MAX(S20,0.001)) -> 0.084719843 | Y21: =_xlfn.NORM.INV(RAND(), 0,0.04775) -> -0.037253763 | Z21: =OFFSET($AF$2,$Z$13+ROW($A8)-1901,0,1,1) -> 0.46627497 | AA21: =OFFSET($AF$3,RANDBETWEEN(1945,2018)-1901,0,1,1) -> 0.084323923 | AB21: =OFFSET($AF$2,$AC$14+ROW($A8)-1901,0,1,1) -> -0.33836997 | AE21: =AE20+1 -> 1919 | AF21: 0.30450122 | AG21: =AG20*(1+AF21) -> 2.093927 | AH21: =POWER(AG$120/AG20,1/ROWS(AG20:AG$119))-1 -> 0.058107899
A22: =A21+1 -> 74 | B22: =B21+1 -> 2038 | D22: =D21*(1+W$3) -> 84761.622 | E22: =E21*(1+W$3) -> 32959.104 | F22: =D22-E22 -> 51802.518 | H22: =SUM(F23:F24) -> 108313.88 | I22: =SUM(F25:F27) -> 174963.52 | K22: =MIN(F22, L21+M22) -> 51802.518 | L22: =(L21+M22-K22)*(1+W$10) -> 108422.2 | M22: =MIN(H22-L21+F22,N21+O22) -> 54852.132 | N22: =(N21+O22-M22)*(1+W$9) -> 178462.79 | O22: =MIN(I22-N21+(H22-L21+F22),R21)-P22 -> 56550.807 | Q22: 0.041863354 | R22: =(R21-O22)*(1+W$8+Q22) -> 216685.54 | S22: =L22+N22+R22 -> 503570.53 | T22: =K22/(MAX(S21,0.001)) -> 0.09573884 | V22: Parameters Adjust the parameters to make different assumptions about needed income, social security, taxes, and investment returns. Since social security will only be able to pay 77 cents on the dollar if nothing is done to fix it, an adjustment can be made to your expected social security. It will likely be fixed by a combination of tax increases and benefit cuts. Stock volitility can be simulated by filling in values in the Stock Variation column. A column of normally distributed random numbers and historic stock data are provided to the right for this purpose. Copy and paste the cells as values, else the random values will keep getting recomputed while you're trying to tweak other parameters. | Y22: =_xlfn.NORM.INV(RAND(), 0,0.04775) -> 0.023584281 | Z22: =OFFSET($AF$2,$Z$13+ROW($A9)-1901,0,1,1) -> 0.14986376 | AA22: =OFFSET($AF$3,RANDBETWEEN(1945,2018)-1901,0,1,1) -> 0.13415013 | AB22: =OFFSET($AF$2,$AC$14+ROW($A9)-1901,0,1,1) -> 0.18818785 | AE22: =AE21+1 -> 1920 | AF22: -0.3290124 | AG22: =AG21*(1+AF22) -> 1.404999 | AH22: =POWER(AG$120/AG21,1/ROWS(AG21:AG$119))-1 -> 0.055872862
A23: =A22+1 -> 75 | B23: =B22+1 -> 2039 | D23: =D22*(1+W$3) -> 87304.471 | E23: =E22*(1+W$3) -> 33947.877 | F23: =D23-E23 -> 53356.593 | H23: =SUM(F24:F25) -> 111563.3 | I23: =SUM(F26:F28) -> 180212.42 | K23: =MIN(F23, L22+M23) -> 53356.593 | L23: =(L22+M23-K23)*(1+W$10) -> 111674.86 | M23: =MIN(H23-L22+F23,N22+O23) -> 56497.696 | N23: =(N22+O23-M23)*(1+W$9) -> 183816.67 | O23: =MIN(I23-N22+(H23-L22+F23),R22)-P23 -> 58247.331 | Q23: 0.22583565 | R23: =(R22-O23)*(1+W$8+Q23) -> 195803.59 | S23: =L23+N23+R23 -> 491295.12 | T23: =K23/(MAX(S22,0.001)) -> 0.10595655 | Y23: =_xlfn.NORM.INV(RAND(), 0,0.04775) -> -0.0037295126 | Z23: =OFFSET($AF$2,$Z$13+ROW($A10)-1901,0,1,1) -> -0.1781433 | AA23: =OFFSET($AF$3,RANDBETWEEN(1945,2018)-1901,0,1,1) -> 0.10891202 | AB23: =OFFSET($AF$2,$AC$14+ROW($A10)-1901,0,1,1) -> 0.11023303 | AE23: =AE22+1 -> 1921 | AF23: 0.12300208 | AG23: =AG22*(1+AF23) -> 1.5778168 | AH23: =POWER(AG$120/AG22,1/ROWS(AG22:AG$119))-1 -> 0.060768909
A24: =A23+1 -> 76 | B24: =B23+1 -> 2040 | D24: =D23*(1+W$3) -> 89923.605 | E24: =E23*(1+W$3) -> 34966.314 | F24: =D24-E24 -> 54957.291 | H24: =SUM(F25:F26) -> 114910.2 | I24: =SUM(F27:F29) -> 185618.79 | K24: =MIN(F24, L23+M24) -> 54957.291 | L24: =(L23+M24-K24)*(1+W$10) -> 115025.11 | M24: =MIN(H24-L23+F24,N23+O24) -> 58192.627 | N24: =(N23+O24-M24)*(1+W$9) -> 189331.17 | O24: =MIN(I24-N23+(H24-L23+F24),R23)-P24 -> 59994.751 | Q24: 0.02257384 | R24: =(R23-O24)*(1+W$8+Q24) -> 140232.65 | S24: =L24+N24+R24 -> 444588.93 | T24: =K24/(MAX(S23,0.001)) -> 0.11186207 | Y24: =_xlfn.NORM.INV(RAND(), 0,0.04775) -> 0.01372789 | Z24: =OFFSET($AF$2,$Z$13+ROW($A11)-1901,0,1,1) -> 0.0020352782 | AA24: =OFFSET($AF$3,RANDBETWEEN(1945,2018)-1901,0,1,1) -> -0.03734308 | AB24: =OFFSET($AF$2,$AC$24+ROW($A1)-1901,0,1,1) -> 0.26657912 | AC24: =RANDBETWEEN(1945, 2009) -> 1945 | AE24: =AE23+1 -> 1922 | AF24: 0.21497525 | AG24: =AG23*(1+AF24) -> 1.9170084 | AH24: =POWER(AG$120/AG23,1/ROWS(AG23:AG$119))-1 -> 0.060145628
A25: =A24+1 -> 77 | B25: =B24+1 -> 2041 | D25: =D24*(1+W$3) -> 92621.313 | E25: =E24*(1+W$3) -> 36015.303 | F25: =D25-E25 -> 56606.01 | H25: =SUM(F26:F27) -> 118357.51 | I25: =SUM(F28:F30) -> 191187.36 | K25: =MIN(F25, L24+M25) -> 56606.01 | L25: =(L24+M25-K25)*(1+W$10) -> 118475.86 | M25: =MIN(H25-L24+F25,N24+O25) -> 59938.406 | N25: =(N24+O25-M25)*(1+W$9) -> 195011.11 | O25: =MIN(I25-N24+(H25-L24+F25),R24)-P25 -> 61794.594 | Q25: 0.11852692 | R25: =(R24-O25)*(1+W$8+Q25) -> 88519.462 | S25: =L25+N25+R25 -> 402006.43 | T25: =K25/(MAX(S24,0.001)) -> 0.12732213 | Y25: =_xlfn.NORM.INV(RAND(), 0,0.04775) -> -0.036899314 | Z25: =OFFSET($AF$2,$Z$13+ROW($A12)-1901,0,1,1) -> 0.07718348 | AA25: =OFFSET($AF$3,RANDBETWEEN(1945,2018)-1901,0,1,1) -> -0.1676266 | AB25: =OFFSET($AF$2,$AC$24+ROW($A2)-1901,0,1,1) -> -0.081389321 | AE25: =AE24+1 -> 1923 | AF25: -0.02699399 | AG25: =AG24*(1+AF25) -> 1.8652607 | AH25: =POWER(AG$120/AG24,1/ROWS(AG24:AG$119))-1 -> 0.058641318
A26: =A25+1 -> 78 | B26: =B25+1 -> 2042 | D26: =D25*(1+W$3) -> 95399.952 | E26: =E25*(1+W$3) -> 37095.762 | F26: =D26-E26 -> 58304.19 | H26: =SUM(F27:F28) -> 121908.23 | I26: =SUM(F29:F31) -> 196922.98 | K26: =MIN(F26, L25+M26) -> 58304.19 | L26: =(L25+M26-K26)*(1+W$10) -> 122030.14 | M26: =MIN(H26-L25+F26,N25+O26) -> 61736.558 | N26: =(N25+O26-M26)*(1+W$9) -> 200861.44 | O26: =MIN(I26-N25+(H26-L25+F26),R25)-P26 -> 63648.431 | Q26: 0.26957484 | R26: =(R25-O26)*(1+W$8+Q26) -> 31824.346 | S26: =L26+N26+R26 -> 354715.92 | T26: =K26/(MAX(S25,0.001)) -> 0.14503298 | Y26: =_xlfn.NORM.INV(RAND(), 0,0.04775) -> 0.076738067 | Z26: =OFFSET($AF$2,$Z$13+ROW($A13)-1901,0,1,1) -> -0.10339409 | AA26: =OFFSET($AF$3,RANDBETWEEN(1945,2018)-1901,0,1,1) -> 0.25080809 | AB26: =OFFSET($AF$2,$AC$24+ROW($A3)-1901,0,1,1) -> 0.022573363 | AE26: =AE25+1 -> 1924 | AF26: 0.2616206 | AG26: =AG25*(1+AF26) -> 2.3532513 | AH26: =POWER(AG$120/AG25,1/ROWS(AG25:AG$119))-1 -> 0.059581712
A27: =A26+1 -> 79 | B27: =B26+1 -> 2043 | D27: =D26*(1+W$3) -> 98261.951 | E27: =E26*(1+W$3) -> 38208.635 | F27: =D27-E27 -> 60053.316 | H27: =SUM(F28:F29) -> 125565.48 | I27: =SUM(F30:F32) -> 202830.67 | K27: =MIN(F27, L26+M27) -> 60053.316 | L27: =(L26+M27-K27)*(1+W$10) -> 125691.04 | M27: =MIN(H27-L26+F27,N26+O27) -> 63588.655 | N27: =(N26+O27-M27)*(1+W$9) -> 172479.07 | O27: =MIN(I27-N26+(H27-L26+F27),R26)-P27 -> 31824.346 | Q27: -0.043404039 | R27: =(R26-O27)*(1+W$8+Q27) -> 0 | S27: =L27+N27+R27 -> 298170.12 | T27: =K27/(MAX(S26,0.001)) -> 0.16929975 | Y27: =_xlfn.NORM.INV(RAND(), 0,0.04775) -> 0.034088689 | Z27: =OFFSET($AF$2,$Z$13+ROW($A14)-1901,0,1,1) -> -0.043463021 | AA27: =OFFSET($AF$3,RANDBETWEEN(1945,2018)-1901,0,1,1) -> 0.18704335 | AB27: =OFFSET($AF$2,$AC$24+ROW($A4)-1901,0,1,1) -> -0.021523179 | AE27: =AE26+1 -> 1925 | AF27: 0.29997511 | AG27: =AG26*(1+AF27) -> 3.0591681 | AH27: =POWER(AG$120/AG26,1/ROWS(AG26:AG$119))-1 -> 0.05761629
A28: =A27+1 -> 80 | B28: =B27+1 -> 2044 | D28: =D27*(1+W$3)*W$6/W$5 -> 101209.81 | E28: =E27*(1+W$3) -> 39354.894 | F28: =D28-E28 -> 61854.915 | H28: =SUM(F29:F30) -> 129332.44 | I28: =SUM(F31:F33) -> 208915.59 | K28: =MIN(F28, L27+M28) -> 61854.915 | L28: =(L27+M28-K28)*(1+W$10) -> 129461.78 | M28: =MIN(H28-L27+F28,N27+O28) -> 65496.314 | N28: =(N27+O28-M28)*(1+W$9) -> 109122.41 | O28: =MIN(I28-N27+(H28-L27+F28),R27)-P28 -> 0 | Q28: 0.20317424 | R28: =(R27-O28)*(1+W$8+Q28) -> 0 | S28: =L28+N28+R28 -> 238584.19 | T28: =K28/(MAX(S27,0.001)) -> 0.20744841 | Y28: =_xlfn.NORM.INV(RAND(), 0,0.04775) -> -0.017300109 | Z28: =OFFSET($AF$2,$Z$13+ROW($A15)-1901,0,1,1) -> 0.81659949 | AA28: =OFFSET($AF$3,RANDBETWEEN(1945,2018)-1901,0,1,1) -> 0.13722698 | AB28: =OFFSET($AF$2,$AC$24+ROW($A5)-1901,0,1,1) -> 0.1285956 | AE28: =AE27+1 -> 1926 | AF28: 0.0034469552 | AG28: =AG27*(1+AF28) -> 3.0697129 | AH28: =POWER(AG$120/AG27,1/ROWS(AG27:AG$119))-1 -> 0.05527249
A29: =A28+1 -> 81 | B29: =B28+1 -> 2045 | D29: =D28*(1+W$3) -> 104246.1 | E29: =E28*(1+W$3) -> 40535.541 | F29: =D29-E29 -> 63710.563 | H29: =SUM(F30:F31) -> 133212.42 | I29: =SUM(F32:F34) -> 215183.06 | K29: =MIN(F29, L28+M29) -> 63710.563 | L29: =(L28+M29-K29)*(1+W$10) -> 133345.63 | M29: =MIN(H29-L28+F29,N28+O29) -> 67461.204 | N29: =(N28+O29-M29)*(1+W$9) -> 42494.433 | O29: =MIN(I29-N28+(H29-L28+F29),R28)-P29 -> 0 | Q29: 0.04175082 | R29: =(R28-O29)*(1+W$8+Q29) -> 0 | S29: =L29+N29+R29 -> 175840.06 | T29: =K29/(MAX(S28,0.001)) -> 0.26703598 | Y29: =_xlfn.NORM.INV(RAND(), 0,0.04775) -> 0.0031282897 | Z29: =OFFSET($AF$2,$Z$13+ROW($A16)-1901,0,1,1) -> -0.041855774 | AA29: =OFFSET($AF$3,RANDBETWEEN(1945,2018)-1901,0,1,1) -> -0.031520693 | AB29: =OFFSET($AF$2,$AC$24+ROW($A6)-1901,0,1,1) -> 0.17641179 | AE29: =AE28+1 -> 1927 | AF29: 0.27671756 | AG29: =AG28*(1+AF29) -> 3.9191564 | AH29: =POWER(AG$120/AG28,1/ROWS(AG28:AG$119))-1 -> 0.055850272
A30: =A29+1 -> 82 | B30: =B29+1 -> 2046 | D30: =D29*(1+W$3) -> 107373.49 | E30: =E29*(1+W$3) -> 41751.607 | F30: =D30-E30 -> 65621.88 | H30: =SUM(F31:F32) -> 137208.79 | I30: =SUM(F33:F35) -> 221638.55 | K30: =MIN(F30, L29+M30) -> 65621.88 | L30: =(L29+M30-K30)*(1+W$10) -> 110328.4 | M30: =MIN(H30-L29+F30,N29+O30) -> 42494.433 | N30: =(N29+O30-M30)*(1+W$9) -> 0 | O30: =MIN(I30-N29+(H30-L29+F30),R29)-P30 -> 0 | Q30: 0.13722698 | R30: =(R29-O30)*(1+W$8+Q30) -> 0 | S30: =L30+N30+R30 -> 110328.4 | T30: =K30/(MAX(S29,0.001)) -> 0.37319072 | Y30: =_xlfn.NORM.INV(RAND(), 0,0.04775) -> -0.0019271668 | Z30: =OFFSET($AF$2,$Z$13+ROW($A17)-1901,0,1,1) -> -0.21705263 | AA30: =OFFSET($AF$3,RANDBETWEEN(1945,2018)-1901,0,1,1) -> -0.16578431 | AB30: =OFFSET($AF$2,$AC$24+ROW($A7)-1901,0,1,1) -> 0.14358539 | AE30: =AE29+1 -> 1928 | AF30: 0.49476831 | AG30: =AG29*(1+AF30) -> 5.8582308 | AH30: =POWER(AG$120/AG29,1/ROWS(AG29:AG$119))-1 -> 0.053648674
A31: =A30+1 -> 83 | B31: =B30+1 -> 2047 | D31: =D30*(1+W$3) -> 110594.69 | E31: =E30*(1+W$3) -> 43004.155 | F31: =D31-E31 -> 67590.536 | H31: =SUM(F32:F33) -> 141325.05 | I31: =SUM(F34:F36) -> 228287.7 | K31: =MIN(F31, L30+M31) -> 67590.536 | L31: =(L30+M31-K31)*(1+W$10) -> 42780.602 | M31: =MIN(H31-L30+F31,N30+O31) -> 0 | N31: =(N30+O31-M31)*(1+W$9) -> 0 | O31: =MIN(I31-N30+(H31-L30+F31),R30)-P31 -> 0 | Q31: 0.021389947 | R31: =(R30-O31)*(1+W$8+Q31) -> 0 | S31: =L31+N31+R31 -> 42780.602 | T31: =K31/(MAX(S30,0.001)) -> 0.61263044 | Y31: =_xlfn.NORM.INV(RAND(), 0,0.04775) -> 0.021427953 | Z31: =OFFSET($AF$2,$Z$13+ROW($A18)-1901,0,1,1) -> 0.10513579 | AA31: =OFFSET($AF$3,RANDBETWEEN(1945,2018)-1901,0,1,1) -> 0.061151508 | AB31: =OFFSET($AF$2,$AC$24+ROW($A8)-1901,0,1,1) -> 0.084323923 | AE31: =AE30+1 -> 1929 | AF31: -0.17166667 | AG31: =AG30*(1+AF31) -> 4.8525679 | AH31: =POWER(AG$120/AG30,1/ROWS(AG30:AG$119))-1 -> 0.049562466
A32: =A31+1 -> 84 | B32: =B31+1 -> 2048 | D32: =D31*(1+W$3) -> 113912.53 | E32: =E31*(1+W$3) -> 44294.28 | F32: =D32-E32 -> 69618.252 | H32: =SUM(F33:F34) -> 145564.8 | I32: =SUM(F35:F37) -> 235136.33 | K32: =MIN(F32, L31+M32) -> 42780.602 | L32: =(L31+M32-K32)*(1+W$10) -> 0 | M32: =MIN(H32-L31+F32,N31+O32) -> 0 | N32: =(N31+O32-M32)*(1+W$9) -> 0 | O32: =MIN(I32-N31+(H32-L31+F32),R31)-P32 -> 0 | Q32: 0.33452431 | R32: =(R31-O32)*(1+W$8+Q32) -> 0 | S32: =L32+N32+R32 -> 0 | T32: =K32/(MAX(S31,0.001)) -> 1 | Y32: =_xlfn.NORM.INV(RAND(), 0,0.04775) -> -0.028571865 | Z32: =OFFSET($AF$2,$Z$13+ROW($A19)-1901,0,1,1) -> 0.30450122 | AA32: =OFFSET($AF$3,RANDBETWEEN(1945,2018)-1901,0,1,1) -> -0.1676266 | AB32: =OFFSET($AF$2,$AC$24+ROW($A9)-1901,0,1,1) -> -0.037684138 | AE32: =AE31+1 -> 1930 | AF32: -0.33762575 | AG32: =AG31*(1+AF32) -> 3.214216 | AH32: =POWER(AG$120/AG31,1/ROWS(AG31:AG$119))-1 -> 0.052357699
A33: =A32+1 -> 85 | B33: =B32+1 -> 2049 | D33: =D32*(1+W$3) -> 117329.91 | E33: =E32*(1+W$3) -> 45623.108 | F33: =D33-E33 -> 71706.8 | H33: =SUM(F34:F35) -> 149931.75 | I33: =SUM(F36:F38) -> 242190.43 | K33: =MIN(F33, L32+M33) -> 0 | L33: =(L32+M33-K33)*(1+W$10) -> 0 | M33: =MIN(H33-L32+F33,N32+O33) -> 0 | N33: =(N32+O33-M33)*(1+W$9) -> 0 | O33: =MIN(I33-N32+(H33-L32+F33),R32)-P33 -> 0 | Q33: 0.25221644 | R33: =(R32-O33)*(1+W$8+Q33) -> 0 | S33: =L33+N33+R33 -> 0 | T33: =K33/(MAX(S32,0.001)) -> 0 | Y33: =_xlfn.NORM.INV(RAND(), 0,0.04775) -> -0.01978511 | Z33: =OFFSET($AF$2,$Z$13+ROW($A20)-1901,0,1,1) -> -0.3290124 | AA33: =OFFSET($AF$3,RANDBETWEEN(1945,2018)-1901,0,1,1) -> 0.25322029 | AB33: =OFFSET($AF$2,$AC$24+ROW($A10)-1901,0,1,1) -> 0.43965824 | AE33: =AE32+1 -> 1931 | AF33: -0.52673147 | AG33: =AG32*(1+AF33) -> 1.5211873 | AH33: =POWER(AG$120/AG32,1/ROWS(AG32:AG$119))-1 -> 0.057908617
A34: =A33+1 -> 86 | B34: =B33+1 -> 2050 | D34: =D33*(1+W$3) -> 120849.81 | E34: =E33*(1+W$3) -> 46991.801 | F34: =D34-E34 -> 73858.004 | H34: =SUM(F35:F36) -> 154429.7 | I34: =SUM(F37:F39) -> 249456.14 | K34: =MIN(F34, L33+M34) -> 0 | L34: =(L33+M34-K34)*(1+W$10) -> 0 | M34: =MIN(H34-L33+F34,N33+O34) -> 0 | N34: =(N33+O34-M34)*(1+W$9) -> 0 | O34: =MIN(I34-N33+(H34-L33+F34),R33)-P34 -> 0 | Q34: -0.061780797 | R34: =(R33-O34)*(1+W$8+Q34) -> 0 | S34: =L34+N34+R34 -> 0 | T34: =K34/(MAX(S33,0.001)) -> 0 | Y34: =_xlfn.NORM.INV(RAND(), 0,0.04775) -> 0.025921083 | Z34: =OFFSET($AF$2,$Z$13+ROW($A21)-1901,0,1,1) -> 0.12300208 | AA34: =OFFSET($AF$3,RANDBETWEEN(1945,2018)-1901,0,1,1) -> 0.14358539 | AB34: =OFFSET($AF$2,$AC$34+ROW($A1)-1901,0,1,1) -> 0.06431735 | AC34: =RANDBETWEEN(1945, 2009) -> 2007 | AE34: =AE33+1 -> 1932 | AF34: -0.23106547 | AG34: =AG33*(1+AF34) -> 1.1696934 | AH34: =POWER(AG$120/AG33,1/ROWS(AG33:AG$119))-1 -> 0.067735207
A35: =A34+1 -> 87 | B35: =B34+1 -> 2051 | D35: =D34*(1+W$3) -> 124475.3 | E35: =E34*(1+W$3) -> 48401.555 | F35: =D35-E35 -> 76073.744 | H35: =SUM(F36:F37) -> 159062.59 | I35: =SUM(F38:F40) -> 256939.82 | K35: =MIN(F35, L34+M35) -> 0 | L35: =(L34+M35-K35)*(1+W$10) -> 0 | M35: =MIN(H35-L34+F35,N34+O35) -> 0 | N35: =(N34+O35-M35)*(1+W$9) -> 0 | O35: =MIN(I35-N34+(H35-L34+F35),R34)-P35 -> 0 | Q35: -0.070947825 | R35: =(R34-O35)*(1+W$8+Q35) -> 0 | S35: =L35+N35+R35 -> 0 | T35: =K35/(MAX(S34,0.001)) -> 0 | Y35: =_xlfn.NORM.INV(RAND(), 0,0.04775) -> 0.064186912 | Z35: =OFFSET($AF$2,$Z$13+ROW($A22)-1901,0,1,1) -> 0.21497525 | AA35: =OFFSET($AF$3,RANDBETWEEN(1945,2018)-1901,0,1,1) -> 0.196 | AB35: =OFFSET($AF$2,$AC$34+ROW($A2)-1901,0,1,1) -> -0.33836997 | AE35: =AE34+1 -> 1933 | AF35: 0.66777963 | AG35: =AG34*(1+AF35) -> 1.9507909 | AH35: =POWER(AG$120/AG34,1/ROWS(AG34:AG$119))-1 -> 0.07181888
A36: =A35+1 -> 88 | B36: =B35+1 -> 2052 | D36: =D35*(1+W$3) -> 128209.56 | E36: =E35*(1+W$3) -> 49853.602 | F36: =D36-E36 -> 78355.956 | H36: =SUM(F37:F38) -> 163834.47 | I36: =SUM(F39:F41) -> 264648.02 | K36: =MIN(F36, L35+M36) -> 0 | L36: =(L35+M36-K36)*(1+W$10) -> 0 | M36: =MIN(H36-L35+F36,N35+O36) -> 0 | N36: =(N35+O36-M36)*(1+W$9) -> 0 | O36: =MIN(I36-N35+(H36-L35+F36),R35)-P36 -> 0 | Q36: -0.1676266 | R36: =(R35-O36)*(1+W$8+Q36) -> 0 | S36: =L36+N36+R36 -> 0 | T36: =K36/(MAX(S35,0.001)) -> 0 | Y36: =_xlfn.NORM.INV(RAND(), 0,0.04775) -> 0.092372673 | Z36: =OFFSET($AF$2,$Z$13+ROW($A23)-1901,0,1,1) -> -0.02699399 | AA36: =OFFSET($AF$3,RANDBETWEEN(1945,2018)-1901,0,1,1) -> 0.18818785 | AB36: =OFFSET($AF$2,$AC$34+ROW($A3)-1901,0,1,1) -> 0.18818785 | AE36: =AE35+1 -> 1934 | AF36: 0.041041041 | AG36: =AG35*(1+AF36) -> 2.0308533 | AH36: =POWER(AG$120/AG35,1/ROWS(AG35:AG$119))-1 -> 0.06625818
A37: =A36+1 -> 89 | B37: =B36+1 -> 2053 | D37: =D36*(1+W$3) -> 132055.85 | E37: =E36*(1+W$3) -> 51349.21 | F37: =D37-E37 -> 80706.635 | H37: =SUM(F38:F39) -> 168749.5 | I37: =SUM(F40:F42) -> 272587.46 | K37: =MIN(F37, L36+M37) -> 0 | L37: =(L36+M37-K37)*(1+W$10) -> 0 | M37: =MIN(H37-L36+F37,N36+O37) -> 0 | N37: =(N36+O37-M37)*(1+W$9) -> 0 | O37: =MIN(I37-N36+(H37-L36+F37),R36)-P37 -> 0 | Q37: 0.25322029 | R37: =(R36-O37)*(1+W$8+Q37) -> 0 | S37: =L37+N37+R37 -> 0 | T37: =K37/(MAX(S36,0.001)) -> 0 | Y37: =_xlfn.NORM.INV(RAND(), 0,0.04775) -> 0.011382519 | Z37: =OFFSET($AF$2,$Z$13+ROW($A24)-1901,0,1,1) -> 0.2616206 | AA37: =OFFSET($AF$3,RANDBETWEEN(1945,2018)-1901,0,1,1) -> 0.14560944 | AB37: =OFFSET($AF$2,$AC$34+ROW($A4)-1901,0,1,1) -> 0.11023303 | AE37: =AE36+1 -> 1935 | AF37: 0.38557692 | AG37: =AG36*(1+AF37) -> 2.8139035 | AH37: =POWER(AG$120/AG36,1/ROWS(AG36:AG$119))-1 -> 0.066562034
A38: =A37+1 -> 90 | B38: =B37+1 -> 2054 | D38: =D37*(1+W$3) -> 136017.52 | E38: =E37*(1+W$3) -> 52889.687 | F38: =D38-E38 -> 83127.834 | H38: =SUM(F39:F40) -> 173811.99 | I38: =SUM(F41:F43) -> 280765.08 | K38: =MIN(F38, L37+M38) -> 0 | L38: =(L37+M38-K38)*(1+W$10) -> 0 | M38: =MIN(H38-L37+F38,N37+O38) -> 0 | N38: =(N37+O38-M38)*(1+W$9) -> 0 | O38: =MIN(I38-N37+(H38-L37+F38),R37)-P38 -> 0 | Q38: 0.031481074 | R38: =(R37-O38)*(1+W$8+Q38) -> 0 | S38: =L38+N38+R38 -> 0 | T38: =K38/(MAX(S37,0.001)) -> 0 | Y38: =_xlfn.NORM.INV(RAND(), 0,0.04775) -> 0.016507825 | Z38: =OFFSET($AF$2,$Z$13+ROW($A25)-1901,0,1,1) -> 0.29997511 | AA38: =OFFSET($AF$3,RANDBETWEEN(1945,2018)-1901,0,1,1) -> 0.14358539 | AB38: =OFFSET($AF$2,$AC$34+ROW($A5)-1901,0,1,1) -> 0.055283908 | AE38: =AE37+1 -> 1936 | AF38: 0.24843858 | AG38: =AG37*(1+AF38) -> 3.5129857 | AH38: =POWER(AG$120/AG37,1/ROWS(AG37:AG$119))-1 -> 0.063204753
